BEGIN:VCALENDAR
VERSION:2.0
PRODID:-//Regionaal EnergieCentrum//NONSGML kigkonsult.se iCalcreator 2.41.92//
CALSCALE:GREGORIAN
METHOD:PUBLISH
UID:61663635-3030-4164-b732-343365616662
X-WR-CALNAME:iCagenda
X-WR-CALDESC:Event Management Extension for Joomla!
X-WR-RELCALID:3E26604A-50F4-4449-8B3E-E4F4932D05B5
X-WR-TIMEZONE:Europe/Amsterdam
BEGIN:VTIMEZONE
TZID:Europe/Amsterdam
TZUNTIL:20280326T010000Z
BEGIN:STANDARD
TZNAME:CET
DTSTART:20251026T030000
TZOFFSETFROM:+0200
TZOFFSETTO:+0100
RDATE:20261025T030000
RDATE:20271031T030000
END:STANDARD
BEGIN:DAYLIGHT
TZNAME:CEST
DTSTART:20260329T020000
TZOFFSETFROM:+0100
TZOFFSETTO:+0200
RDATE:20270328T020000
END:DAYLIGHT
END:VTIMEZONE
BEGIN:VEVENT
UID:36643134-3961-4436-b231-613839643061
DTSTAMP:20260423T214428Z
CATEGORIES:Advies en demonstratie in het Regionaal Energiecentrum
CLASS:PUBLIC
DESCRIPTION;ALTREP="CID:<FFFF__=0ABBE548DFE235B58f9e8a93d@coffeebean.com>":
 Informatiemarkt EnergiemaatregelenHeb je zorgen over de betaalbaarheid van
  energie voor jouw woning? En wil je weten wat je kan doen om energie te b
 esparen in jouw huis? Kom dan naar de informatiemarkt op 6 mei.\nJe krijgt
  duidelijke uitleg\, praktische tips en persoonlijk advies. We denken met 
 je mee\, zodat je na afloop weet welke stappen je kan zetten.\nMeer inform
 atie over dit event\n&nbsp\;
DTSTART:20260506T150000Z
DTEND:20260506T190000Z
GEO:+52.088085;+5.247337
LOCATION:Slotlaan 279 Zeist
ORGANIZER;CN=:mailto:post@grijsnaargroen.nl
SEQUENCE:1
SUMMARY:Informatiemarkt Energiemaatregelen
TRANSP:OPAQUE
URL:https://regionaalenergiecentrum.nl/component/icagenda/16-informatiemark
 t-energiemaatregelen?Itemid=0&layout=vcal
END:VEVENT
END:VCALENDAR
